BEGIN:VCALENDAR
VERSION:2.0
PRODID:-//Westchester Latinos Unidos - ECPv6.15.12.2//NONSGML v1.0//EN
CALSCALE:GREGORIAN
METHOD:PUBLISH
X-ORIGINAL-URL:https://wlatinos.org
X-WR-CALDESC:Events for Westchester Latinos Unidos
REFRESH-INTERVAL;VALUE=DURATION:PT1H
X-Robots-Tag:noindex
X-PUBLISHED-TTL:PT1H
BEGIN:VTIMEZONE
TZID:UTC
BEGIN:STANDARD
TZOFFSETFROM:+0000
TZOFFSETTO:+0000
TZNAME:UTC
DTSTART:20210101T000000
END:STANDARD
END:VTIMEZONE
BEGIN:VEVENT
DTSTART;TZID=UTC:20221117T180000
DTEND;TZID=UTC:20221117T213000
DTSTAMP:20260423T142259
CREATED:20221104T143444Z
LAST-MODIFIED:20221104T143444Z
UID:4453-1668708000-1668720600@wlatinos.org
SUMMARY:Latinas\, Literature and Fashion Networking Event
DESCRIPTION:Featuring strong and empowering Latinas discussing their journey and success.\nJoining us or a book signing is the author\, actor and speaker of “Embracing Me: a Memoir” April Hernandez Castillo and highlighting her latest CENIANY dress colection is Women’s Fashion Designer\, Celia Paredes. \nThursday\, November 17\, 2022 | 6:00  – 9:00 pm\nDunwoodie Golf Course\n1 Wasylenko Ln\, Yonkers\, NY\, 10701 \n$75 per person \nIncludes: Food and Beverage\, Raffles and lots of surprises. \n 
URL:https://wlatinos.org/event/latinas-literature-and-fashion-networking-event/
CATEGORIES:Networking
ATTACH;FMTTYPE=image/jpeg:https://wlatinos.org/wp-content/uploads/2022/11/Latinas-and-Literature.jpeg
END:VEVENT
BEGIN:VEVENT
DTSTART;VALUE=DATE:20221120
DTEND;VALUE=DATE:20221121
DTSTAMP:20260423T142259
CREATED:20221119T150001Z
LAST-MODIFIED:20221119T150024Z
UID:4456-1668902400-1668988799@wlatinos.org
SUMMARY:Gullotta House Thanksgiving Dinner 2022
DESCRIPTION:
URL:https://wlatinos.org/event/gullotta-house-thanksgiving-dinner-2022/
CATEGORIES:Thanksgiving Dinner
ATTACH;FMTTYPE=image/jpeg:https://wlatinos.org/wp-content/uploads/2022/11/Gullota-House-Thanksgiving-dinner.jpeg
END:VEVENT
END:VCALENDAR