BEGIN:VCALENDAR
VERSION:2.0
PRODID:-//Westchester Latinos Unidos - ECPv6.15.12.2//NONSGML v1.0//EN
CALSCALE:GREGORIAN
METHOD:PUBLISH
X-ORIGINAL-URL:https://wlatinos.org
X-WR-CALDESC:Events for Westchester Latinos Unidos
REFRESH-INTERVAL;VALUE=DURATION:PT1H
X-Robots-Tag:noindex
X-PUBLISHED-TTL:PT1H
BEGIN:VTIMEZONE
TZID:UTC
BEGIN:STANDARD
TZOFFSETFROM:+0000
TZOFFSETTO:+0000
TZNAME:UTC
DTSTART:20220101T000000
END:STANDARD
END:VTIMEZONE
BEGIN:VEVENT
DTSTART;TZID=UTC:20231116T180000
DTEND;TZID=UTC:20231116T200000
DTSTAMP:20260422T214335
CREATED:20231027T144700Z
LAST-MODIFIED:20231027T144700Z
UID:5380-1700157600-1700164800@wlatinos.org
SUMMARY:Get Your Citizenship!
DESCRIPTION:
URL:https://wlatinos.org/event/get-your-citizenship/
ATTACH;FMTTYPE=image/jpeg:https://wlatinos.org/wp-content/uploads/2023/10/Get-your-US-citizenship-2.jpg
END:VEVENT
END:VCALENDAR