BEGIN:VCALENDAR
VERSION:2.0
PRODID:-//Westchester Latinos Unidos - ECPv6.15.12.2//NONSGML v1.0//EN
CALSCALE:GREGORIAN
METHOD:PUBLISH
X-WR-CALNAME:Westchester Latinos Unidos
X-ORIGINAL-URL:https://wlatinos.org
X-WR-CALDESC:Events for Westchester Latinos Unidos
REFRESH-INTERVAL;VALUE=DURATION:PT1H
X-Robots-Tag:noindex
X-PUBLISHED-TTL:PT1H
BEGIN:VTIMEZONE
TZID:UTC
BEGIN:STANDARD
TZOFFSETFROM:+0000
TZOFFSETTO:+0000
TZNAME:UTC
DTSTART:20220101T000000
END:STANDARD
END:VTIMEZONE
BEGIN:VEVENT
DTSTART;TZID=UTC:20231007T110000
DTEND;TZID=UTC:20231007T160000
DTSTAMP:20260422T230439
CREATED:20230928T183634Z
LAST-MODIFIED:20230928T183751Z
UID:5290-1696676400-1696694400@wlatinos.org
SUMMARY:Prepare the town Mount Vernon
DESCRIPTION:
URL:https://wlatinos.org/event/prepare-the-town-mount-vernon/
ATTACH;FMTTYPE=image/jpeg:https://wlatinos.org/wp-content/uploads/2023/09/WhatsApp-Image-2023-09-28-at-12.44.08-PM.jpeg
END:VEVENT
END:VCALENDAR